BEGIN:VCALENDAR
VERSION:2.0
PRODID:-// - ECPv6.15.12.2//NONSGML v1.0//EN
CALSCALE:GREGORIAN
METHOD:PUBLISH
X-ORIGINAL-URL:http://stmartins.net.nz
X-WR-CALDESC:Events for 
REFRESH-INTERVAL;VALUE=DURATION:PT1H
X-Robots-Tag:noindex
X-PUBLISHED-TTL:PT1H
BEGIN:VTIMEZONE
TZID:Pacific/Auckland
BEGIN:STANDARD
TZOFFSETFROM:+1300
TZOFFSETTO:+1200
TZNAME:NZST
DTSTART:20230401T140000
END:STANDARD
BEGIN:DAYLIGHT
TZOFFSETFROM:+1200
TZOFFSETTO:+1300
TZNAME:NZDT
DTSTART:20230923T140000
END:DAYLIGHT
BEGIN:STANDARD
TZOFFSETFROM:+1300
TZOFFSETTO:+1200
TZNAME:NZST
DTSTART:20240406T140000
END:STANDARD
BEGIN:DAYLIGHT
TZOFFSETFROM:+1200
TZOFFSETTO:+1300
TZNAME:NZDT
DTSTART:20240928T140000
END:DAYLIGHT
BEGIN:STANDARD
TZOFFSETFROM:+1300
TZOFFSETTO:+1200
TZNAME:NZST
DTSTART:20250405T140000
END:STANDARD
BEGIN:DAYLIGHT
TZOFFSETFROM:+1200
TZOFFSETTO:+1300
TZNAME:NZDT
DTSTART:20250927T140000
END:DAYLIGHT
END:VTIMEZONE
BEGIN:VEVENT
DTSTART;VALUE=DATE:20240929
DTEND;VALUE=DATE:20241006
DTSTAMP:20260421T232027
CREATED:20240310T091015Z
LAST-MODIFIED:20240310T091015Z
UID:3852-1727568000-1728172799@stmartins.net.nz
SUMMARY:Te Gana Tuvalu (Tuvalu Language Week)
DESCRIPTION:
URL:http://stmartins.net.nz/event/te-gana-tuvalu-tuvalu-language-week/
LOCATION:Auckland
END:VEVENT
BEGIN:VEVENT
DTSTART;VALUE=DATE:20241006
DTEND;VALUE=DATE:20241013
DTSTAMP:20260421T232027
CREATED:20240310T091314Z
LAST-MODIFIED:20240310T091314Z
UID:3854-1728172800-1728777599@stmartins.net.nz
SUMMARY:Vosa VakaViti (Fijian Language Week)
DESCRIPTION:
URL:http://stmartins.net.nz/event/vosa-vakaviti-fijian-language-week/
LOCATION:Auckland
END:VEVENT
BEGIN:VEVENT
DTSTART;VALUE=DATE:20241013
DTEND;VALUE=DATE:20241020
DTSTAMP:20260421T232027
CREATED:20240310T091459Z
LAST-MODIFIED:20240310T091459Z
UID:3856-1728777600-1729382399@stmartins.net.nz
SUMMARY:Vagahau Niue (Niuean Language Week)
DESCRIPTION:
URL:http://stmartins.net.nz/event/vagahau-niue-niuean-language-week/
LOCATION:Auckland
END:VEVENT
BEGIN:VEVENT
DTSTART;VALUE=DATE:20241027
DTEND;VALUE=DATE:20241103
DTSTAMP:20260421T232027
CREATED:20240310T091725Z
LAST-MODIFIED:20240310T091725Z
UID:3858-1729987200-1730591999@stmartins.net.nz
SUMMARY:Te Gagana Tokelau (Tokelauan Language Week)
DESCRIPTION:
URL:http://stmartins.net.nz/event/te-gagana-tokelau-tokelauan-language-week/
LOCATION:Auckland
END:VEVENT
BEGIN:VEVENT
DTSTART;VALUE=DATE:20241028
DTEND;VALUE=DATE:20241029
DTSTAMP:20260421T232027
CREATED:20240206T082056Z
LAST-MODIFIED:20240206T082108Z
UID:3616-1730073600-1730159999@stmartins.net.nz
SUMMARY:Labour Day
DESCRIPTION:
URL:http://stmartins.net.nz/event/labour-day/
LOCATION:Auckland
END:VEVENT
END:VCALENDAR