BEGIN:VCALENDAR
VERSION:2.0
PRODID:-// - ECPv6.15.12.2//NONSGML v1.0//EN
CALSCALE:GREGORIAN
METHOD:PUBLISH
X-ORIGINAL-URL:http://stmartins.net.nz
X-WR-CALDESC:Events for 
REFRESH-INTERVAL;VALUE=DURATION:PT1H
X-Robots-Tag:noindex
X-PUBLISHED-TTL:PT1H
BEGIN:VTIMEZONE
TZID:Pacific/Auckland
BEGIN:STANDARD
TZOFFSETFROM:+1300
TZOFFSETTO:+1200
TZNAME:NZST
DTSTART:20230401T140000
END:STANDARD
BEGIN:DAYLIGHT
TZOFFSETFROM:+1200
TZOFFSETTO:+1300
TZNAME:NZDT
DTSTART:20230923T140000
END:DAYLIGHT
BEGIN:STANDARD
TZOFFSETFROM:+1300
TZOFFSETTO:+1200
TZNAME:NZST
DTSTART:20240406T140000
END:STANDARD
BEGIN:DAYLIGHT
TZOFFSETFROM:+1200
TZOFFSETTO:+1300
TZNAME:NZDT
DTSTART:20240928T140000
END:DAYLIGHT
BEGIN:STANDARD
TZOFFSETFROM:+1300
TZOFFSETTO:+1200
TZNAME:NZST
DTSTART:20250405T140000
END:STANDARD
BEGIN:DAYLIGHT
TZOFFSETFROM:+1200
TZOFFSETTO:+1300
TZNAME:NZDT
DTSTART:20250927T140000
END:DAYLIGHT
END:VTIMEZONE
BEGIN:VEVENT
DTSTART;VALUE=DATE:20240324
DTEND;VALUE=DATE:20240325
DTSTAMP:20260422T085858
CREATED:20240212T073853Z
LAST-MODIFIED:20240212T074004Z
UID:3640-1711238400-1711324799@stmartins.net.nz
SUMMARY:Palm Sunday
DESCRIPTION:
URL:http://stmartins.net.nz/event/palm-sunday/
LOCATION:Auckland
END:VEVENT
BEGIN:VEVENT
DTSTART;TZID=Pacific/Auckland:20240325T190000
DTEND;TZID=Pacific/Auckland:20240325T200000
DTSTAMP:20260422T085858
CREATED:20240303T022851Z
LAST-MODIFIED:20240303T022859Z
UID:3713-1711393200-1711396800@stmartins.net.nz
SUMMARY:Holy Week Service 1
DESCRIPTION:
URL:http://stmartins.net.nz/event/holy-week-service-1/
LOCATION:Auckland
END:VEVENT
BEGIN:VEVENT
DTSTART;TZID=Pacific/Auckland:20240326T190000
DTEND;TZID=Pacific/Auckland:20240326T200000
DTSTAMP:20260422T085858
CREATED:20240303T022946Z
LAST-MODIFIED:20240303T023004Z
UID:3715-1711479600-1711483200@stmartins.net.nz
SUMMARY:Holy Week Service 2
DESCRIPTION:
URL:http://stmartins.net.nz/event/holy-week-service-2/
LOCATION:Auckland
END:VEVENT
BEGIN:VEVENT
DTSTART;TZID=Pacific/Auckland:20240327T190000
DTEND;TZID=Pacific/Auckland:20240327T200000
DTSTAMP:20260422T085858
CREATED:20240303T023114Z
LAST-MODIFIED:20240303T023114Z
UID:3717-1711566000-1711569600@stmartins.net.nz
SUMMARY:Holy Week Services 3
DESCRIPTION:
URL:http://stmartins.net.nz/event/holy-week-services-3/
LOCATION:5 Landscape Road\, Papatoetoe\, AKL\, 2025\, 5 Landscape Road\, Papatoetoe\, Auckland\, 2025\, New Zealand
END:VEVENT
BEGIN:VEVENT
DTSTART;TZID=Pacific/Auckland:20240328T190000
DTEND;TZID=Pacific/Auckland:20240328T200000
DTSTAMP:20260422T085858
CREATED:20240303T023145Z
LAST-MODIFIED:20240303T023151Z
UID:3720-1711652400-1711656000@stmartins.net.nz
SUMMARY:Tenebrae Service
DESCRIPTION:
URL:http://stmartins.net.nz/event/tenebrae-service/
LOCATION:St Martins Presbyterian Church\, 22 Wyllie Road\, Papatoetoe\, Auckland\, 2025\, New Zealand
END:VEVENT
BEGIN:VEVENT
DTSTART;VALUE=DATE:20240329
DTEND;VALUE=DATE:20240330
DTSTAMP:20260422T085858
CREATED:20240206T081352Z
LAST-MODIFIED:20240206T081421Z
UID:3607-1711670400-1711756799@stmartins.net.nz
SUMMARY:Good Friday
DESCRIPTION:
URL:http://stmartins.net.nz/event/good-friday/
LOCATION:Auckland
END:VEVENT
BEGIN:VEVENT
DTSTART;VALUE=DATE:20240331
DTEND;VALUE=DATE:20240401
DTSTAMP:20260422T085858
CREATED:20240206T081554Z
LAST-MODIFIED:20240206T081707Z
UID:3609-1711843200-1711929599@stmartins.net.nz
SUMMARY:Easter Sunday
DESCRIPTION:
URL:http://stmartins.net.nz/event/easter-sunday/
LOCATION:Auckland
END:VEVENT
END:VCALENDAR