BEGIN:VCALENDAR
VERSION:2.0
PRODID:-// - ECPv6.15.12.2//NONSGML v1.0//EN
CALSCALE:GREGORIAN
METHOD:PUBLISH
X-ORIGINAL-URL:http://stmartins.net.nz
X-WR-CALDESC:Events for 
REFRESH-INTERVAL;VALUE=DURATION:PT1H
X-Robots-Tag:noindex
X-PUBLISHED-TTL:PT1H
BEGIN:VTIMEZONE
TZID:Pacific/Auckland
BEGIN:STANDARD
TZOFFSETFROM:+1300
TZOFFSETTO:+1200
TZNAME:NZST
DTSTART:20220402T140000
END:STANDARD
BEGIN:DAYLIGHT
TZOFFSETFROM:+1200
TZOFFSETTO:+1300
TZNAME:NZDT
DTSTART:20220924T140000
END:DAYLIGHT
BEGIN:STANDARD
TZOFFSETFROM:+1300
TZOFFSETTO:+1200
TZNAME:NZST
DTSTART:20230401T140000
END:STANDARD
BEGIN:DAYLIGHT
TZOFFSETFROM:+1200
TZOFFSETTO:+1300
TZNAME:NZDT
DTSTART:20230923T140000
END:DAYLIGHT
BEGIN:STANDARD
TZOFFSETFROM:+1300
TZOFFSETTO:+1200
TZNAME:NZST
DTSTART:20240406T140000
END:STANDARD
BEGIN:DAYLIGHT
TZOFFSETFROM:+1200
TZOFFSETTO:+1300
TZNAME:NZDT
DTSTART:20240928T140000
END:DAYLIGHT
END:VTIMEZONE
BEGIN:VEVENT
DTSTART;TZID=Pacific/Auckland:20231001T080000
DTEND;TZID=Pacific/Auckland:20231007T170000
DTSTAMP:20260422T160612
CREATED:20230522T085856Z
LAST-MODIFIED:20230522T085856Z
UID:2880-1696147200-1696698000@stmartins.net.nz
SUMMARY:Tuvalu Language Week
DESCRIPTION:
URL:http://stmartins.net.nz/event/tuvalu-language-week/
LOCATION:Auckland
END:VEVENT
BEGIN:VEVENT
DTSTART;TZID=Pacific/Auckland:20231008T080000
DTEND;TZID=Pacific/Auckland:20231014T170000
DTSTAMP:20260422T160612
CREATED:20230522T085946Z
LAST-MODIFIED:20230522T085946Z
UID:2882-1696752000-1697302800@stmartins.net.nz
SUMMARY:Fijian Language Week
DESCRIPTION:
URL:http://stmartins.net.nz/event/fijian-language-week/
LOCATION:Auckland
END:VEVENT
BEGIN:VEVENT
DTSTART;TZID=Pacific/Auckland:20231015T080000
DTEND;TZID=Pacific/Auckland:20231021T170000
DTSTAMP:20260422T160612
CREATED:20230522T090022Z
LAST-MODIFIED:20230522T090022Z
UID:2884-1697356800-1697907600@stmartins.net.nz
SUMMARY:Niue Language Week
DESCRIPTION:
URL:http://stmartins.net.nz/event/niue-language-week/
LOCATION:Auckland
END:VEVENT
BEGIN:VEVENT
DTSTART;TZID=Pacific/Auckland:20231022T080000
DTEND;TZID=Pacific/Auckland:20231028T170000
DTSTAMP:20260422T160612
CREATED:20230522T090054Z
LAST-MODIFIED:20230522T090054Z
UID:2886-1697961600-1698512400@stmartins.net.nz
SUMMARY:Tokelau Language Week
DESCRIPTION:
URL:http://stmartins.net.nz/event/tokelau-language-week/
LOCATION:Auckland
END:VEVENT
BEGIN:VEVENT
DTSTART;TZID=Pacific/Auckland:20231029T100000
DTEND;TZID=Pacific/Auckland:20231029T150000
DTSTAMP:20260422T160612
CREATED:20230618T052634Z
LAST-MODIFIED:20230618T052634Z
UID:3026-1698573600-1698591600@stmartins.net.nz
SUMMARY:Children's Sunday
DESCRIPTION:
URL:http://stmartins.net.nz/event/childrens-sunday/
LOCATION:St Martins Presbyterian Church\, 22 Wyllie Road\, Papatoetoe\, Auckland\, 2025\, New Zealand
END:VEVENT
END:VCALENDAR